BEGIN:VCALENDAR
VERSION:2.0
PRODID:-//wp-events-plugin.com//7.2.3.1//EN
TZID:Europe/Berlin
X-WR-TIMEZONE:Europe/Berlin
BEGIN:VEVENT
UID:10749@werkbox3.de
DTSTART;TZID=Europe/Berlin:20250901T070000
DTEND;TZID=Europe/Berlin:20250901T071500
DTSTAMP:20260108T133912Z
URL:https://www.werkbox3.de/events/testwiederholung-2-2025-09-01/
SUMMARY:Testwiederholung (copy)
DESCRIPTION:
CATEGORIES:Testkurs
END:VEVENT
BEGIN:VTIMEZONE
TZID:Europe/Berlin
X-LIC-LOCATION:Europe/Berlin
BEGIN:DAYLIGHT
DTSTART:20250330T030000
TZOFFSETFROM:+0100
TZOFFSETTO:+0200
TZNAME:CEST
END:DAYLIGHT
END:VTIMEZONE
END:VCALENDAR