BEGIN:VCALENDAR
VERSION:2.0
PRODID:-//wp-events-plugin.com//7.2.3.1//EN
TZID:Europe/Berlin
X-WR-TIMEZONE:Europe/Berlin
BEGIN:VEVENT
UID:10742@werkbox3.de
DTSTART;TZID=Europe/Berlin:20250203T070000
DTEND;TZID=Europe/Berlin:20250203T071500
DTSTAMP:20260108T133912Z
URL:https://www.werkbox3.de/events/testwiederholung-2-2025-02-03/
SUMMARY:Testwiederholung (copy)
DESCRIPTION:
CATEGORIES:Testkurs
END:VEVENT
BEGIN:VTIMEZONE
TZID:Europe/Berlin
X-LIC-LOCATION:Europe/Berlin
BEGIN:STANDARD
DTSTART:20241027T020000
TZOFFSETFROM:+0200
TZOFFSETTO:+0100
TZNAME:CET
END:STANDARD
END:VTIMEZONE
END:VCALENDAR