BEGIN:VCALENDAR
VERSION:2.0
PRODID:-//wp-events-plugin.com//7.2.3.1//EN
TZID:Europe/Berlin
X-WR-TIMEZONE:Europe/Berlin
BEGIN:VEVENT
UID:10797@werkbox3.de
DTSTART;TZID=Europe/Berlin:20260406T150000
DTEND;TZID=Europe/Berlin:20260406T183000
DTSTAMP:20260303T063625Z
URL:https://www.werkbox3.de/events/schutzgasschweissen-mag-fuer-anfaengeri
 nnen-privatkurs-zubaryev/
SUMMARY:Schutzgasschweißen (MAG) für Anfänger:innen (Privatkurs Zubaryev
 )
DESCRIPTION:In diesem Kurs lernst du die Grundlagen des MAG-Schweißens und
  kannst selber Hand anlegen. Das Metall-Aktivgasschweißen ist das gängig
 ste Schweißverfahren mit einem sehr breiten Einsatzspektrum. Es kommt sow
 ohl für dünne Bleche – beispielsweise bei der Instandsetzung von Fahrz
 eugkarosserien – als auch bei der Fertigung tonnenschwerer Metallkonstru
 ktionen zum Einsatz. Der Kurs richtet sich an Anfänger:innen die das MAG-
 Schweißen für den privat- bzw. Hobbybereich erlernen wollen. Er beinhalt
 et neben den theoretischen Grundlagen auch die korrekte Einstellung des Sc
 hweißgeräts\, die Vorbereitung der zu verschweißenden Komponenten und d
 ie Nachbearbeitung der Schweißnaht mit dem Winkelschleifer. Das Hauptziel
  des Kurses besteht aber darin\, durch praktische Versuche die verschieden
 en Faktoren kennenzulernen\, die Einfluss auf die Qualität einer Schweiß
 naht haben. Du wirst anschließend in der Lage sein eine Schweißnaht zu b
 eurteilen\, mögliche Fehlerquellen zu erkennen und diese abzustellen. Zud
 em wirst du deine Fingerfertigkeit trainieren und schnell merken\, dass da
 s Erzeugen einer gleichmäßigen Schweißnaht kein Kunststück ist.\n\nWei
 tere Informationen zu dem Kurs findest du hier.
CATEGORIES:Schweißen
LOCATION:WerkBox³ e.V.\, Dachauer Str. 110c\, München\, Bayern\, 80636\, 
 Deutschland
X-APPLE-STRUCTURED-LOCATION;VALUE=URI;X-ADDRESS=Dachauer Str. 110c\, Münch
 en\, Bayern\, 80636\, Deutschland;X-APPLE-RADIUS=100;X-TITLE=WerkBox³ e.V
 .:geo:0,0
END:VEVENT
BEGIN:VTIMEZONE
TZID:Europe/Berlin
X-LIC-LOCATION:Europe/Berlin
BEGIN:DAYLIGHT
DTSTART:20260329T030000
TZOFFSETFROM:+0100
TZOFFSETTO:+0200
TZNAME:CEST
END:DAYLIGHT
END:VTIMEZONE
END:VCALENDAR