BEGIN:VCALENDAR
VERSION:2.0
PRODID:-//wp-events-plugin.com//7.2.3.1//EN
TZID:Europe/Berlin
X-WR-TIMEZONE:Europe/Berlin
BEGIN:VEVENT
UID:9047@werkbox3.de
DTSTART;TZID=Europe/Berlin:20250110T153000
DTEND;TZID=Europe/Berlin:20250110T183000
DTSTAMP:20241214T135940Z
URL:https://www.werkbox3.de/events/schnupperkurs-goldschmieden-fuer-kinder
 -am-freitag/
SUMMARY:Schnupperkurs Goldschmieden für Kinder am Freitag
DESCRIPTION:Infos zum Schmuckkurs und freier Werkstatt findest du hier.\nAn
 fragen bitte an: hans-juergen.nussdorfer@gmx.de\nBei Buchung des Platzes b
 itte das jeweilige Tickts buchen. .\n\nDie jeweilige Kursgebühr wird nach
  der jeweiligen Buchung berechnet.\n\nBuchungsende ist jeweils 18:00 am Vo
 rtag des Kurses.\n\nEs sind insgesamt 3 Plätze verfügbar\, bitte bei der
  Buchung beachten.\n\nBei späterer Buchung bitte Anfrage über hans-juerg
 en.nussdorfer@gmx.de\n\n&nbsp\;
CATEGORIES:Kinderkurs,Kinderkurs Goldschmieden,Schmuck-Kurse
LOCATION:WerkBox³ e.V.\, Dachauer Str. 110c\, München\, Bayern\, 80636\, 
 Deutschland
X-APPLE-STRUCTURED-LOCATION;VALUE=URI;X-ADDRESS=Dachauer Str. 110c\, Münch
 en\, Bayern\, 80636\, Deutschland;X-APPLE-RADIUS=100;X-TITLE=WerkBox³ e.V
 .:geo:0,0
END:VEVENT
BEGIN:VTIMEZONE
TZID:Europe/Berlin
X-LIC-LOCATION:Europe/Berlin
BEGIN:STANDARD
DTSTART:20241027T020000
TZOFFSETFROM:+0200
TZOFFSETTO:+0100
TZNAME:CET
END:STANDARD
END:VTIMEZONE
END:VCALENDAR