BEGIN:VCALENDAR
VERSION:2.0
PRODID:-//wp-events-plugin.com//7.2.3.1//EN
TZID:Europe/Berlin
X-WR-TIMEZONE:Europe/Berlin
BEGIN:VEVENT
UID:10237@werkbox3.de
DTSTART;TZID=Europe/Berlin:20251119T173000
DTEND;TZID=Europe/Berlin:20251119T203000
DTSTAMP:20251107T080139Z
URL:https://www.werkbox3.de/events/schnupperkurs-goldschmieden-2-2025-07-2
 3-2/
SUMMARY:Eheringkurs
DESCRIPTION:Infos zum Eheringkurst findest du hier.\nAnfragen bitte an: gol
 dschmied@werkbox3.de\nBei Buchung des Platzes bitte das jeweilige Tickts b
 uchen. .\n\nDie jeweilige Kursgebühr wird nach der jeweiligen Buchung ber
 echnet.\n\nMaterial nach Verbrauch.\n\nEs sind insgesamt 2 Plätze verfüg
 bar\, bitte bei der Buchung beachten.\n\nBei späterer Buchung bitte Anfra
 ge über goldschmied@werkbox3.de\n\n&nbsp\;
CATEGORIES:Eheringkurs,Schnupperkurs Goldschmieden
LOCATION:WerkBox³ - Schmuckwerkstatt\, Dachauerstr. 110C\, München\, Baye
 rn\, 80636\, Deutschland
X-APPLE-STRUCTURED-LOCATION;VALUE=URI;X-ADDRESS=Dachauerstr. 110C\, Münche
 n\, Bayern\, 80636\, Deutschland;X-APPLE-RADIUS=100;X-TITLE=WerkBox³ - Sc
 hmuckwerkstatt:geo:0,0
END:VEVENT
BEGIN:VTIMEZONE
TZID:Europe/Berlin
X-LIC-LOCATION:Europe/Berlin
BEGIN:STANDARD
DTSTART:20251026T020000
TZOFFSETFROM:+0200
TZOFFSETTO:+0100
TZNAME:CET
END:STANDARD
END:VTIMEZONE
END:VCALENDAR