BEGIN:VCALENDAR
VERSION:2.0
PRODID:-//wp-events-plugin.com//7.2.3.1//EN
TZID:Europe/Berlin
X-WR-TIMEZONE:Europe/Berlin
BEGIN:VEVENT
UID:387@werkbox3.de
DTSTART;TZID=Europe/Berlin:20140206T180000
DTEND;TZID=Europe/Berlin:20140206T210000
DTSTAMP:20141211T142512Z
URL:https://www.werkbox3.de/events/repaircafe-2-2014-02-06/
SUMMARY:RepairCafé
DESCRIPTION:Die WerkBox3 hat ab Februar 2014 ein RepairCafé. Jeden ersten 
 Donnerstag im Monat kannst du mit Dingen kommen\, die du mit fachlicher An
 leitung reparieren  willst.\n\nGleichzeitig kannst du Dinge zum Tauschen m
 itbringen.\n\nDie WerkBox3 bietet Reparaturhilfe in den Bereichen: Elektro
 \, Elektronik\, Metall\, Holz\, Textiles.\n\nOhne Anmeldung\, einfach vorb
 eikommen!
CATEGORIES:Repair Café
LOCATION:WerkBox3\, Grafinger Straße 6\, München\, Bayern\, 81671\, Berg 
 am Laim\, Deutschland
GEO:48.122894;11.609518
X-APPLE-STRUCTURED-LOCATION;VALUE=URI;X-ADDRESS=Grafinger Straße 6\, Münc
 hen\, Bayern\, 81671\, Berg am Laim\, Deutschland;X-APPLE-RADIUS=100;X-TIT
 LE=WerkBox3:geo:48.122894,11.609518
END:VEVENT
BEGIN:VTIMEZONE
TZID:Europe/Berlin
X-LIC-LOCATION:Europe/Berlin
BEGIN:STANDARD
DTSTART:20131027T020000
TZOFFSETFROM:+0200
TZOFFSETTO:+0100
TZNAME:CET
END:STANDARD
END:VTIMEZONE
END:VCALENDAR