BEGIN:VCALENDAR
VERSION:2.0
PRODID:-//wp-events-plugin.com//7.2.3.1//EN
TZID:Europe/Berlin
X-WR-TIMEZONE:Europe/Berlin
BEGIN:VEVENT
UID:214@werkbox3.de
DTSTART;TZID=Europe/Berlin:20140919T140000
DTEND;TZID=Europe/Berlin:20140919T190000
DTSTAMP:20140715T080203Z
URL:https://www.werkbox3.de/events/parking-day/
SUMMARY:PARK(ing) Day
DESCRIPTION:Anlässlich des weltweiten Autofreien Tages veranstaltet Green 
 City e.V. jedes Jahr den PARK(ing) Day. An diesem Tag werden Parkplätze i
 n Parks umgewandelt\, um aufzuzeigen\, wie der von stehenden Autos in Ansp
 ruch genommene Raum alternativ genutzt werden kann.\n\nDieses Jahr findet 
 die Aktion am 19. September 2014 statt\, voraussichtlich in der Sendlinger
  Straße zwischen Hackenstraße und Herzog-Wilhelm-Straße. Schon seit lä
 ngerem bestehen bei der Stadt Überlegungen\, die bereits vorhandene Fußg
 ängerzone im vorderen Teil der Sendlinger Straße auf die komplette Läng
 e bis zum Sendlinger Tor auszuweiten – ganz im Sinne von Green City e.V.
 . Mit dem PARK(ing) Day wollen wir diesen Prozess (weiter) anstoßen und b
 egleiten.\n\nPARK(ing) bedeutet\, Grün ins triste Grau der Stadt zu bring
 en und Parkplätze alternativ zu nutzen. Mit einfachen Mitteln entstehen k
 leine Oasen im Großstadtdschungel. Das weltweite Event findet jährlich i
 n Metropolen wie San Francisco\, New York\, London\, Valencia\, Rio de Jan
 eiro\, Toronto und Melbourne statt. In München koordiniert Green City e.V
 . den Aktionstag.\n\nLiegestühle und Sonnenschirme\, Rollrasen und Pflanz
 en statt Asphalt. Spiele und Leben statt parkender Autos. Ein Minigolfparc
 ours\, ein Plantschbecken oder ein Büro im Freien? Egal ob mit Bank\, Bü
 cherregal oder Basketballkorb\, ein PARK hat viele verschiedene Gesichter!
  Mit dem Aktionstag stellen wir die Tatsache in Frage\, dass dem Autoverke
 hr über 70 Prozent des öffentlichen Raumes eingeräumt werden. Green Cit
 y e.V. fordert eine nachhaltige Nutzung des öffentlichen Raums\, mehr Gr
 ünflächen und Lebensqualität in München.\n\nDer Aktionstag ist 2005 in
  San Francisco entstanden\, Green City e.V. brachte den PARK(ing) DAY 2007
  nach München. Seitdem koordinieren wir die Organisationen\, Unternehmen 
 und Privatpersonen\, die ihre eigenen PARKs gestalten.
CATEGORIES:Festival
LOCATION:Sendlinger Strasse\, Sendlinger Strasse\, München\, Deutschland
GEO:48.135202;11.570144
X-APPLE-STRUCTURED-LOCATION;VALUE=URI;X-ADDRESS=Sendlinger Strasse\, Münch
 en\, Deutschland;X-APPLE-RADIUS=100;X-TITLE=Sendlinger Strasse:geo:48.1352
 02,11.570144
END:VEVENT
BEGIN:VTIMEZONE
TZID:Europe/Berlin
X-LIC-LOCATION:Europe/Berlin
BEGIN:DAYLIGHT
DTSTART:20140330T030000
TZOFFSETFROM:+0100
TZOFFSETTO:+0200
TZNAME:CEST
END:DAYLIGHT
END:VTIMEZONE
END:VCALENDAR