BEGIN:VCALENDAR
VERSION:2.0
PRODID:-//wp-events-plugin.com//7.2.3.1//EN
TZID:Europe/Berlin
X-WR-TIMEZONE:Europe/Berlin
BEGIN:VEVENT
UID:10801@werkbox3.de
DTSTART;TZID=Europe/Berlin:20260414T173000
DTEND;TZID=Europe/Berlin:20260414T203000
DTSTAMP:20260305T084521Z
URL:https://www.werkbox3.de/events/metalle-hartloeten-5/
SUMMARY:Metalle (hart)löten
DESCRIPTION:Infos zum Kurs und freier Werkstatt findest du hier.\n\nBuchung
 sende ist jeweils 18:00 am Vortag des Kurses.\n\nEs sind insgesamt 4 Plät
 ze verfügbar\, bitte bei der Buchung beachten.\n\nMindestteilnehmerzahl i
 st 2.\n\nMaterialkosten: 35 Euro.\n\nAnfragen über goldschmied@werkbox3.d
 e\n\n&nbsp\;\n\n&nbsp\;
CATEGORIES:Metalle löten
LOCATION:WerkBox³ - Metallwerkstatt\, Dachauer Str. 110c\, München\, 8063
 6\, Deutschland
X-APPLE-STRUCTURED-LOCATION;VALUE=URI;X-ADDRESS=Dachauer Str. 110c\, Münch
 en\, 80636\, Deutschland;X-APPLE-RADIUS=100;X-TITLE=WerkBox³ - Metallwerk
 statt:geo:0,0
END:VEVENT
BEGIN:VTIMEZONE
TZID:Europe/Berlin
X-LIC-LOCATION:Europe/Berlin
BEGIN:DAYLIGHT
DTSTART:20260329T030000
TZOFFSETFROM:+0100
TZOFFSETTO:+0200
TZNAME:CEST
END:DAYLIGHT
END:VTIMEZONE
END:VCALENDAR