BEGIN:VCALENDAR
VERSION:2.0
PRODID:-//wp-events-plugin.com//7.2.3.1//EN
TZID:Europe/Berlin
X-WR-TIMEZONE:Europe/Berlin
BEGIN:VEVENT
UID:10239@werkbox3.de
DTSTART;TZID=Europe/Berlin:20251018T090000
DTEND;TZID=Europe/Berlin:20251018T234500
DTSTAMP:20251011T222921Z
URL:https://www.werkbox3.de/events/herbstaktionstag/
SUMMARY:Herbstaktionstag
DESCRIPTION:Frühstück ab 9:00 Uhr.\n\nArbeiten gemäß der ToDo-Listen de
 r einzelnen AGs sowie der des Vorstands.\n\nGemeinsames Mittagessen.\n\nAb
 ends wird u.A. gegrillt.
CATEGORIES:Teamtreffen
END:VEVENT
BEGIN:VTIMEZONE
TZID:Europe/Berlin
X-LIC-LOCATION:Europe/Berlin
BEGIN:DAYLIGHT
DTSTART:20250330T030000
TZOFFSETFROM:+0100
TZOFFSETTO:+0200
TZNAME:CEST
END:DAYLIGHT
END:VTIMEZONE
END:VCALENDAR