BEGIN:VCALENDAR
VERSION:2.0
PRODID:-//wp-events-plugin.com//7.2.3.1//EN
TZID:Europe/Berlin
X-WR-TIMEZONE:Europe/Berlin
BEGIN:VEVENT
UID:10800@werkbox3.de
DTSTART;TZID=Europe/Berlin:20260420T180000
DTEND;TZID=Europe/Berlin:20260420T210000
DTSTAMP:20260304T091550Z
URL:https://www.werkbox3.de/events/drehscheibenkurs-intensiv-toepfern-im-j
 apanischen-stil-14-15-3-2026-3/
SUMMARY:Drehscheibenkurs intensiv: Töpfern im japanischen Stil - 14.-15.3.
 2026 (3)
DESCRIPTION:Drehscheibenkurs: Töpfern im japanischen Stil\n\nErlebe die Ku
 nst des Töpferns in einer kleinen Gruppe von maximal vier bis fünf Perso
 nen.\n\nIn diesem intensiven Wochenend-Kurs tauchen wir in die Welt der Ke
 ramik ein – mit besonderem Fokus auf die Ästhetik und Techniken Japans.
 \n\n&nbsp\;\n\nWas dich erwartet:\n\n📅 Drei Tage: Samstag 14.03 und Son
 ntag 15.03\, jeweils von 10:00-16:00 (Dauer: ca. 6 Stunden) und Glasurterm
 in (Datum TBD\, 3 Stunden)\n\n💰 Kursgebühren: 290 € (Material und Br
 ennkosten)\n\nKurs 3 Termine 220 € - Paypal Zahlung\n\nMaterialkosten 70
  € - Vorort beim ersten Kurs zu bezahlen\n\n&nbsp\;\n\nAblauf\n\n🔹 Er
 ste Session: Einführung in das Töpfern – vom Kneten über das Zentrier
 en bis zur Formgebung an der Drehscheibe. Wir nehmen uns Zeit\, die Grundl
 agen zu verinnerlichen. Jeder Teilnehmer hat seine eigene Drehscheibe.\n\n
 🔹 Zweite Session: Die lederharten Teile der ersten Session werden auf 
 der Scheibe abgedreht. Falls noch Zeit übrig ist\, werden die Techniken d
 er ersten Session noch einmal an der Scheibe ausprobiert.\n\n🔹 Dritte S
 ession: Glasieren der gedrehten und inzwischen geschrühten Stücke. Versc
 hiedene Gestaltungstechniken und Methoden werden vorgestellt.\n\nDie ferti
 gen Werke werden anschließend bei über 1220°C gebrannt und sind danach 
 abholbereit – der genaue Termin wird im Kurs bekannt gegeben.\n\nDieser 
 Kurs ist mehr als nur Töpfern – es ist eine Reise in die faszinierende 
 Welt der japanischen Kultur. Gemeinsam entdecken wir ihre ästhetische Phi
 losophie\, einzigartigen Traditionen und ihr jahrtausendealtes Kunsthandwe
 rk.\n\n \n\nWichtige Infos:\n\n✔ Keine Vorkenntnisse nötig\, nur Begei
 sterung!\n\n✔ Mindestens 2 Teilnehmer\, maximal 5\n\n✔ Material und We
 rkzeuge stehen zur Verfügung\n\n✔ Bitte mit kurzen Nägeln kommen.\n\n
 ✔ Trage Kleidung\, die schmutzig werden darf\, und bring ein Handtuch mi
 t.\n\n&nbsp\;\n\nStornierung und Warteliste:\n\nFalls Du nicht teilnehmen 
 kannst\, erstatten wir die Kursgebühr\, sofern eine Ersatzperson gefunden
  wird.\n\nFalls der Kurs bereits ausgebucht ist\, setzen wir Euch gerne au
 f die Warteliste. Schickt uns dazu einfach eine E-Mail an info@kintei-sens
 e.com mit dem Kursnamen und Eurem Namen.\n\n&nbsp\;\n\nFür Fragen könnte
  Ihr mich gerne unter info@kintei-sense.com kontaktieren.\n\nIch bin übri
 gens Caroline Hayashi von KINTEI Sense\, Japanese Crafts Gallery.\n\nwww.k
 intei-sense.com\n\n@kinteisense\n\n&nbsp\;\n\nLust auf eine kreative Ausze
 it? Ich freue mich auf Euch! 😊\n\n&nbsp\;
ATTACH;FMTTYPE=image/jpeg:https://www.werkbox3.de/cms/uploads/2025/03/TOeP
 FERKURS-Drehscheibe-japanisch.jpg
CATEGORIES:Drehscheibe,Drehscheibenkurs,Töpferkurse
LOCATION:WerkBox³ - Töpferei\, Dachauer Str. 110c\, München\, 80636\, De
 utschland
X-APPLE-STRUCTURED-LOCATION;VALUE=URI;X-ADDRESS=Dachauer Str. 110c\, Münch
 en\, 80636\, Deutschland;X-APPLE-RADIUS=100;X-TITLE=WerkBox³ - Töpferei:
 geo:0,0
END:VEVENT
BEGIN:VTIMEZONE
TZID:Europe/Berlin
X-LIC-LOCATION:Europe/Berlin
BEGIN:DAYLIGHT
DTSTART:20260329T030000
TZOFFSETFROM:+0100
TZOFFSETTO:+0200
TZNAME:CEST
END:DAYLIGHT
END:VTIMEZONE
END:VCALENDAR